BEGIN:VCALENDAR
VERSION:2.0
PRODID:-//Phoenix Squad - ECPv6.15.17//NONSGML v1.0//EN
CALSCALE:GREGORIAN
METHOD:PUBLISH
X-ORIGINAL-URL:https://phoenixsquadmagfed.com
X-WR-CALDESC:Events for Phoenix Squad
REFRESH-INTERVAL;VALUE=DURATION:PT1H
X-Robots-Tag:noindex
X-PUBLISHED-TTL:PT1H
BEGIN:VTIMEZONE
TZID:UTC
BEGIN:STANDARD
TZOFFSETFROM:+0000
TZOFFSETTO:+0000
TZNAME:UTC
DTSTART:20240101T000000
END:STANDARD
END:VTIMEZONE
BEGIN:VEVENT
DTSTART;VALUE=DATE:20260228
DTEND;VALUE=DATE:20260301
DTSTAMP:20260423T133517
CREATED:20260225T123343Z
LAST-MODIFIED:20260225T123343Z
UID:3873-1772236800-1772323199@phoenixsquadmagfed.com
SUMMARY:feb game
DESCRIPTION:
URL:https://phoenixsquadmagfed.com/event/feb-game/
LOCATION:The Paintball Park at Alpine\, 25 Oaks Owl Rd\, Alpine\, CA\, 91901\, United States
ATTACH;FMTTYPE=image/jpeg:https://phoenixsquadmagfed.com/wp-content/uploads/2025/06/494522688_705607802026503_6061279106031283158_n.jpg
END:VEVENT
BEGIN:VEVENT
DTSTART;VALUE=DATE:20251221
DTEND;VALUE=DATE:20251222
DTSTAMP:20260423T133517
CREATED:20251126T164323Z
LAST-MODIFIED:20251204T023113Z
UID:3795-1766275200-1766361599@phoenixsquadmagfed.com
SUMMARY:Phoenix Squad December Game
DESCRIPTION: 
URL:https://phoenixsquadmagfed.com/event/phoenix-squad-december-game/
LOCATION:The Paintball Park at Alpine\, 25 Oaks Owl Rd\, Alpine\, CA\, 91901\, United States
ATTACH;FMTTYPE=image/jpeg:https://phoenixsquadmagfed.com/wp-content/uploads/2025/11/583219177_18047282024679370_8709329327631186918_n.jpg
END:VEVENT
BEGIN:VEVENT
DTSTART;VALUE=DATE:20251207
DTEND;VALUE=DATE:20251208
DTSTAMP:20260423T133517
CREATED:20251126T162222Z
LAST-MODIFIED:20251128T212833Z
UID:3789-1765065600-1765151999@phoenixsquadmagfed.com
SUMMARY:MAGFED ONLY Game at SC Village
DESCRIPTION:
URL:https://phoenixsquadmagfed.com/event/magfed-only-game-at-sc-village/
LOCATION:SC Village\, 8900 McCarty Rd\, Corona\, CA\, 92880\, United States
ATTACH;FMTTYPE=image/jpeg:https://phoenixsquadmagfed.com/wp-content/uploads/2025/11/584058581_18047105387679370_53645120835465769_n.jpg
END:VEVENT
BEGIN:VEVENT
DTSTART;TZID=UTC:20251128T080000
DTEND;TZID=UTC:20251128T170000
DTSTAMP:20260423T133517
CREATED:20251128T212534Z
LAST-MODIFIED:20251128T212534Z
UID:3811-1764316800-1764349200@phoenixsquadmagfed.com
SUMMARY:game
DESCRIPTION:
URL:https://phoenixsquadmagfed.com/event/game/
LOCATION:CA
END:VEVENT
BEGIN:VEVENT
DTSTART;TZID=UTC:20251108T100000
DTEND;TZID=UTC:20251109T160000
DTSTAMP:20260423T133517
CREATED:20250620T060221Z
LAST-MODIFIED:20250620T060221Z
UID:3593-1762596000-1762704000@phoenixsquadmagfed.com
SUMMARY:OPERATION END WAR 16
DESCRIPTION:
URL:https://phoenixsquadmagfed.com/event/operation-end-war-16/
LOCATION:The Paintball Park at Alpine\, 25 Oaks Owl Rd\, Alpine\, CA\, 91901\, United States
ATTACH;FMTTYPE=image/jpeg:https://phoenixsquadmagfed.com/wp-content/uploads/2025/06/494522688_705607802026503_6061279106031283158_n.jpg
END:VEVENT
BEGIN:VEVENT
DTSTART;VALUE=DATE:20250629
DTEND;VALUE=DATE:20250630
DTSTAMP:20260423T133517
CREATED:20250620T053949Z
LAST-MODIFIED:20250620T054142Z
UID:3577-1751155200-1751241599@phoenixsquadmagfed.com
SUMMARY:MAGFED ONLY GAME
DESCRIPTION:
URL:https://phoenixsquadmagfed.com/event/magfed-only-game/
LOCATION:Jungle Island\, 14881 Temescal Canyon Rd\, Lake Elsinore\, CA\, 92530\, United States
ATTACH;FMTTYPE=image/jpeg:https://phoenixsquadmagfed.com/wp-content/uploads/2025/06/505706123_734397199147563_3216636672394277099_n.jpg
END:VEVENT
END:VCALENDAR